BEGIN:VCALENDAR
VERSION:2.0
PRODID:-//Deutscher Zentralverein homöopathischer Ärzte e.V. - Landesverband Bayern - ECPv6.15.20//NONSGML v1.0//EN
CALSCALE:GREGORIAN
METHOD:PUBLISH
X-WR-CALNAME:Deutscher Zentralverein homöopathischer Ärzte e.V. - Landesverband Bayern
X-ORIGINAL-URL:https://www.homoeopathie-bayern.de
X-WR-CALDESC:Veranstaltungen für Deutscher Zentralverein homöopathischer Ärzte e.V. - Landesverband Bayern
REFRESH-INTERVAL;VALUE=DURATION:PT1H
X-Robots-Tag:noindex
X-PUBLISHED-TTL:PT1H
BEGIN:VTIMEZONE
TZID:Europe/Berlin
BEGIN:DAYLIGHT
TZOFFSETFROM:+0100
TZOFFSETTO:+0200
TZNAME:CEST
DTSTART:20250330T010000
END:DAYLIGHT
BEGIN:STANDARD
TZOFFSETFROM:+0200
TZOFFSETTO:+0100
TZNAME:CET
DTSTART:20251026T010000
END:STANDARD
BEGIN:DAYLIGHT
TZOFFSETFROM:+0100
TZOFFSETTO:+0200
TZNAME:CEST
DTSTART:20260329T010000
END:DAYLIGHT
BEGIN:STANDARD
TZOFFSETFROM:+0200
TZOFFSETTO:+0100
TZNAME:CET
DTSTART:20261025T010000
END:STANDARD
BEGIN:DAYLIGHT
TZOFFSETFROM:+0100
TZOFFSETTO:+0200
TZNAME:CEST
DTSTART:20270328T010000
END:DAYLIGHT
BEGIN:STANDARD
TZOFFSETFROM:+0200
TZOFFSETTO:+0100
TZNAME:CET
DTSTART:20271031T010000
END:STANDARD
END:VTIMEZONE
BEGIN:VEVENT
DTSTART;TZID=Europe/Berlin:20260228T100000
DTEND;TZID=Europe/Berlin:20260228T140000
DTSTAMP:20260425T000117
CREATED:20260115T134558Z
LAST-MODIFIED:20260219T185238Z
UID:5776-1772272800-1772287200@www.homoeopathie-bayern.de
SUMMARY:Mitgliederversammlung 28.02.2026
DESCRIPTION:Sa. 10:00 bis 14:00 Uhr Hörsaal KfN  München/Harlaching \n  \n 
URL:https://www.homoeopathie-bayern.de/event/mitgliederversammlung-28-02-2026/
LOCATION:Hörsaal KH für Naturheilweisen\, Seybothstr. 65\, München\, Bayern\, 81545
CATEGORIES:Besondere Events,Seminar
ORGANIZER;CN="Landesverband Bayern e.V. des DZVh%C3%84":MAILTO:lv.by@dzvhae.de
END:VEVENT
END:VCALENDAR