BEGIN:VCALENDAR
VERSION:2.0
PRODID:-//Deutscher Zentralverein homöopathischer Ärzte e.V. - Landesverband Bayern - ECPv6.15.20//NONSGML v1.0//EN
CALSCALE:GREGORIAN
METHOD:PUBLISH
X-WR-CALNAME:Deutscher Zentralverein homöopathischer Ärzte e.V. - Landesverband Bayern
X-ORIGINAL-URL:https://www.homoeopathie-bayern.de
X-WR-CALDESC:Veranstaltungen für Deutscher Zentralverein homöopathischer Ärzte e.V. - Landesverband Bayern
REFRESH-INTERVAL;VALUE=DURATION:PT1H
X-Robots-Tag:noindex
X-PUBLISHED-TTL:PT1H
BEGIN:VTIMEZONE
TZID:Europe/Berlin
BEGIN:DAYLIGHT
TZOFFSETFROM:+0100
TZOFFSETTO:+0200
TZNAME:CEST
DTSTART:20250330T010000
END:DAYLIGHT
BEGIN:STANDARD
TZOFFSETFROM:+0200
TZOFFSETTO:+0100
TZNAME:CET
DTSTART:20251026T010000
END:STANDARD
BEGIN:DAYLIGHT
TZOFFSETFROM:+0100
TZOFFSETTO:+0200
TZNAME:CEST
DTSTART:20260329T010000
END:DAYLIGHT
BEGIN:STANDARD
TZOFFSETFROM:+0200
TZOFFSETTO:+0100
TZNAME:CET
DTSTART:20261025T010000
END:STANDARD
BEGIN:DAYLIGHT
TZOFFSETFROM:+0100
TZOFFSETTO:+0200
TZNAME:CEST
DTSTART:20270328T010000
END:DAYLIGHT
BEGIN:STANDARD
TZOFFSETFROM:+0200
TZOFFSETTO:+0100
TZNAME:CET
DTSTART:20271031T010000
END:STANDARD
END:VTIMEZONE
BEGIN:VEVENT
DTSTART;TZID=Europe/Berlin:20260303T000000
DTEND;TZID=Europe/Berlin:20261222T235900
DTSTAMP:20260422T001847
CREATED:20260122T142412Z
LAST-MODIFIED:20260219T192743Z
UID:5780-1772496000-1797983940@www.homoeopathie-bayern.de
SUMMARY:Qualitätszirkel - Supervision und Intervision
DESCRIPTION:Information und Anmeldung \nDienstags\, 18:30 –  21:30 Uhr \n  \n 
URL:https://www.homoeopathie-bayern.de/event/qualitaetszirkel-supervision-und-intervision/
LOCATION:Kaiserstr. 57\, 80801 München\, Kaiserstr. 57\, 80801 München\, Bayern\, Germany
CATEGORIES:Seminar
ORGANIZER;CN="Dr. Wiebke Lohmann":MAILTO:kontakt@doktor-lohmann.de
END:VEVENT
END:VCALENDAR